BEGIN:VCALENDAR
VERSION:2.0
PRODID:-// - ECPv6.15.19//NONSGML v1.0//EN
CALSCALE:GREGORIAN
METHOD:PUBLISH
X-ORIGINAL-URL:https://www.bagad-cesson.com
X-WR-CALDESC:Évènements pour 
REFRESH-INTERVAL;VALUE=DURATION:PT1H
X-Robots-Tag:noindex
X-PUBLISHED-TTL:PT1H
BEGIN:VTIMEZONE
TZID:Europe/Paris
BEGIN:DAYLIGHT
TZOFFSETFROM:+0100
TZOFFSETTO:+0200
TZNAME:CEST
DTSTART:20240331T010000
END:DAYLIGHT
BEGIN:STANDARD
TZOFFSETFROM:+0200
TZOFFSETTO:+0100
TZNAME:CET
DTSTART:20241027T010000
END:STANDARD
BEGIN:DAYLIGHT
TZOFFSETFROM:+0100
TZOFFSETTO:+0200
TZNAME:CEST
DTSTART:20250330T010000
END:DAYLIGHT
BEGIN:STANDARD
TZOFFSETFROM:+0200
TZOFFSETTO:+0100
TZNAME:CET
DTSTART:20251026T010000
END:STANDARD
BEGIN:DAYLIGHT
TZOFFSETFROM:+0100
TZOFFSETTO:+0200
TZNAME:CEST
DTSTART:20260329T010000
END:DAYLIGHT
BEGIN:STANDARD
TZOFFSETFROM:+0200
TZOFFSETTO:+0100
TZNAME:CET
DTSTART:20261025T010000
END:STANDARD
END:VTIMEZONE
BEGIN:VEVENT
DTSTART;TZID=Europe/Paris:20250518T143000
DTEND;TZID=Europe/Paris:20250518T170000
DTSTAMP:20260421T151640
CREATED:20250321T073335Z
LAST-MODIFIED:20250321T073343Z
UID:627-1747578600-1747587600@www.bagad-cesson.com
SUMMARY:Fête de la bretagne
DESCRIPTION:Le Bagad jouera pour la fête de la Bretagne à Bain de bretagne.
URL:https://www.bagad-cesson.com/event/fete-de-la-bretagne/
LOCATION:Bain De Bretagne\, Place de la république\, Bain-de-bretagne\, 35470\, France
CATEGORIES:Prestation
ORGANIZER;CN="Bagad Cesson-S%C3%A9vign%C3%A9":MAILTO:bagadcesson@gmail.com
END:VEVENT
END:VCALENDAR