BEGIN:VCALENDAR
VERSION:2.0
PRODID:-// - ECPv6.15.19//NONSGML v1.0//EN
CALSCALE:GREGORIAN
METHOD:PUBLISH
X-ORIGINAL-URL:https://www.bagad-cesson.com
X-WR-CALDESC:Évènements pour 
REFRESH-INTERVAL;VALUE=DURATION:PT1H
X-Robots-Tag:noindex
X-PUBLISHED-TTL:PT1H
BEGIN:VTIMEZONE
TZID:Europe/Paris
BEGIN:DAYLIGHT
TZOFFSETFROM:+0100
TZOFFSETTO:+0200
TZNAME:CEST
DTSTART:20240331T010000
END:DAYLIGHT
BEGIN:STANDARD
TZOFFSETFROM:+0200
TZOFFSETTO:+0100
TZNAME:CET
DTSTART:20241027T010000
END:STANDARD
BEGIN:DAYLIGHT
TZOFFSETFROM:+0100
TZOFFSETTO:+0200
TZNAME:CEST
DTSTART:20250330T010000
END:DAYLIGHT
BEGIN:STANDARD
TZOFFSETFROM:+0200
TZOFFSETTO:+0100
TZNAME:CET
DTSTART:20251026T010000
END:STANDARD
BEGIN:DAYLIGHT
TZOFFSETFROM:+0100
TZOFFSETTO:+0200
TZNAME:CEST
DTSTART:20260329T010000
END:DAYLIGHT
BEGIN:STANDARD
TZOFFSETFROM:+0200
TZOFFSETTO:+0100
TZNAME:CET
DTSTART:20261025T010000
END:STANDARD
END:VTIMEZONE
BEGIN:VEVENT
DTSTART;TZID=Europe/Paris:20251005T143000
DTEND;TZID=Europe/Paris:20251005T190000
DTSTAMP:20260421T045044
CREATED:20250903T143438Z
LAST-MODIFIED:20250923T135845Z
UID:787-1759674600-1759690800@www.bagad-cesson.com
SUMMARY:Le Grand Soufflet
DESCRIPTION:Le Bagad se produira dans le cadre du festival du Grand Soufflet en métropole rennaise. Rendez-vous le 5 octobre dès 14h45 au Parc de Thabor de Rennes.
URL:https://www.bagad-cesson.com/event/le-grand-soufflet/
LOCATION:Parc du Thabor\, Rennes\, Place Sainte Melaine\, Rennes\, 35000\, France
CATEGORIES:Prestation
END:VEVENT
END:VCALENDAR