BEGIN:VCALENDAR
VERSION:2.0
PRODID:-// - ECPv6.15.19//NONSGML v1.0//EN
CALSCALE:GREGORIAN
METHOD:PUBLISH
X-ORIGINAL-URL:https://www.bagad-cesson.com
X-WR-CALDESC:Évènements pour 
REFRESH-INTERVAL;VALUE=DURATION:PT1H
X-Robots-Tag:noindex
X-PUBLISHED-TTL:PT1H
BEGIN:VTIMEZONE
TZID:Europe/Paris
BEGIN:DAYLIGHT
TZOFFSETFROM:+0100
TZOFFSETTO:+0200
TZNAME:CEST
DTSTART:20240331T010000
END:DAYLIGHT
BEGIN:STANDARD
TZOFFSETFROM:+0200
TZOFFSETTO:+0100
TZNAME:CET
DTSTART:20241027T010000
END:STANDARD
BEGIN:DAYLIGHT
TZOFFSETFROM:+0100
TZOFFSETTO:+0200
TZNAME:CEST
DTSTART:20250330T010000
END:DAYLIGHT
BEGIN:STANDARD
TZOFFSETFROM:+0200
TZOFFSETTO:+0100
TZNAME:CET
DTSTART:20251026T010000
END:STANDARD
BEGIN:DAYLIGHT
TZOFFSETFROM:+0100
TZOFFSETTO:+0200
TZNAME:CEST
DTSTART:20260329T010000
END:DAYLIGHT
BEGIN:STANDARD
TZOFFSETFROM:+0200
TZOFFSETTO:+0100
TZNAME:CET
DTSTART:20261025T010000
END:STANDARD
END:VTIMEZONE
BEGIN:VEVENT
DTSTART;VALUE=DATE:20250501
DTEND;VALUE=DATE:20250502
DTSTAMP:20260421T133648
CREATED:20250321T072405Z
LAST-MODIFIED:20250321T072405Z
UID:617-1746057600-1746143999@www.bagad-cesson.com
SUMMARY:Fête de la fédération Sonerion 35
DESCRIPTION:L’ensemble des formations seront présente pour la fête de la fédération Sonerion 35. Le Bagad et le Bagadig se produiront sur scène\, et le Skolaj participera au concours départemental de 5ème catégorie. Venez les applaudir nombreux.
URL:https://www.bagad-cesson.com/event/fete-de-la-federation-sonerion-35/
LOCATION:Dol de Bretagne\, Place de la cathédrale\, Dol-De-Bretagne\, 35120\, France
CATEGORIES:Concours,Prestation
ATTACH;FMTTYPE=image/jpeg:https://www.bagad-cesson.com/wp-content/uploads/2025/03/sonerion35.jpg
END:VEVENT
BEGIN:VEVENT
DTSTART;TZID=Europe/Paris:20250515T191500
DTEND;TZID=Europe/Paris:20250515T200000
DTSTAMP:20260421T133648
CREATED:20250321T073054Z
LAST-MODIFIED:20250325T100825Z
UID:622-1747336500-1747339200@www.bagad-cesson.com
SUMMARY:Inauguration Gueuleton Rennes
DESCRIPTION:Le Bagad fera l’inauguration du restaurant Gueleton à Rennes !
URL:https://www.bagad-cesson.com/event/inauguration-gueuleton-rennes/
LOCATION:Gueuleton\, 96 Rue de la Poterie\, Rennes\, 35200\, France
CATEGORIES:Prestation
END:VEVENT
BEGIN:VEVENT
DTSTART;TZID=Europe/Paris:20250517T110000
DTEND;TZID=Europe/Paris:20250517T113000
DTSTAMP:20260421T133648
CREATED:20250503T073437Z
LAST-MODIFIED:20250503T210147Z
UID:710-1747479600-1747481400@www.bagad-cesson.com
SUMMARY:Animation jury international pour le label "ville européenne du sport"
DESCRIPTION:Le Bagad animera le parvis du Pont des Arts de Cesson-Sévigné pour le jury international pour l’obtention du label « ville européenne du sport ».
URL:https://www.bagad-cesson.com/event/animation-jury-international-pour-le-label-ville-europeenne-du-sport/
LOCATION:Cesson-Sévigné
CATEGORIES:Prestation
END:VEVENT
BEGIN:VEVENT
DTSTART;TZID=Europe/Paris:20250518T143000
DTEND;TZID=Europe/Paris:20250518T170000
DTSTAMP:20260421T133648
CREATED:20250321T073335Z
LAST-MODIFIED:20250321T073343Z
UID:627-1747578600-1747587600@www.bagad-cesson.com
SUMMARY:Fête de la bretagne
DESCRIPTION:Le Bagad jouera pour la fête de la Bretagne à Bain de bretagne.
URL:https://www.bagad-cesson.com/event/fete-de-la-bretagne/
LOCATION:Bain De Bretagne\, Place de la république\, Bain-de-bretagne\, 35470\, France
CATEGORIES:Prestation
ORGANIZER;CN="Bagad Cesson-S%C3%A9vign%C3%A9":MAILTO:bagadcesson@gmail.com
END:VEVENT
END:VCALENDAR