BEGIN:VCALENDAR
VERSION:2.0
PRODID:-// - ECPv6.15.19//NONSGML v1.0//EN
CALSCALE:GREGORIAN
METHOD:PUBLISH
X-ORIGINAL-URL:https://www.bagad-cesson.com
X-WR-CALDESC:Évènements pour 
REFRESH-INTERVAL;VALUE=DURATION:PT1H
X-Robots-Tag:noindex
X-PUBLISHED-TTL:PT1H
BEGIN:VTIMEZONE
TZID:Europe/Paris
BEGIN:DAYLIGHT
TZOFFSETFROM:+0100
TZOFFSETTO:+0200
TZNAME:CEST
DTSTART:20250330T010000
END:DAYLIGHT
BEGIN:STANDARD
TZOFFSETFROM:+0200
TZOFFSETTO:+0100
TZNAME:CET
DTSTART:20251026T010000
END:STANDARD
BEGIN:DAYLIGHT
TZOFFSETFROM:+0100
TZOFFSETTO:+0200
TZNAME:CEST
DTSTART:20260329T010000
END:DAYLIGHT
BEGIN:STANDARD
TZOFFSETFROM:+0200
TZOFFSETTO:+0100
TZNAME:CET
DTSTART:20261025T010000
END:STANDARD
BEGIN:DAYLIGHT
TZOFFSETFROM:+0100
TZOFFSETTO:+0200
TZNAME:CEST
DTSTART:20270328T010000
END:DAYLIGHT
BEGIN:STANDARD
TZOFFSETFROM:+0200
TZOFFSETTO:+0100
TZNAME:CET
DTSTART:20271031T010000
END:STANDARD
END:VTIMEZONE
BEGIN:VEVENT
DTSTART;TZID=Europe/Paris:20260404T173000
DTEND;TZID=Europe/Paris:20260404T183000
DTSTAMP:20260424T095837
CREATED:20260321T134739Z
LAST-MODIFIED:20260326T075353Z
UID:897-1775323800-1775327400@www.bagad-cesson.com
SUMMARY:13 ans de la Cave à Flo
DESCRIPTION:Préparez vos bottes\, vos chapeaux et vos éperons… 🤠 La Cave à Flo fête ses 13 ans avec un week-end exceptionnel sur le thème Far West / Western / Cowboys & Indiens. Pendant 3 jours\, venez vivre une ambiance digne d’un saloon géant avec 40 tirages pression\, des concerts live\, des fanfares\, un DJ set festif et le Kara’Flo\, le karaoké géant. Passage du Bagad le samedi à 17h30. \nLa restauration sera assurée sur place par Aux Bon Vivants.  \nEntrée gratuite pendant tout l’événement. 
URL:https://www.bagad-cesson.com/event/13-ans-de-la-cave-a-flo/
LOCATION:Cave à Flo\, 3 Allée de Bray\, Cesson-Sévigné\, France\, 35510\, France
ATTACH;FMTTYPE=image/jpeg:https://www.bagad-cesson.com/wp-content/uploads/2026/03/632101561_18383987077153676_8929292691940716845_n.jpg
END:VEVENT
END:VCALENDAR