BEGIN:VCALENDAR
VERSION:2.0
PRODID:-// - ECPv6.15.19//NONSGML v1.0//EN
CALSCALE:GREGORIAN
METHOD:PUBLISH
X-ORIGINAL-URL:https://www.bagad-cesson.com
X-WR-CALDESC:Évènements pour 
REFRESH-INTERVAL;VALUE=DURATION:PT1H
X-Robots-Tag:noindex
X-PUBLISHED-TTL:PT1H
BEGIN:VTIMEZONE
TZID:Europe/Paris
BEGIN:DAYLIGHT
TZOFFSETFROM:+0100
TZOFFSETTO:+0200
TZNAME:CEST
DTSTART:20240331T010000
END:DAYLIGHT
BEGIN:STANDARD
TZOFFSETFROM:+0200
TZOFFSETTO:+0100
TZNAME:CET
DTSTART:20241027T010000
END:STANDARD
BEGIN:DAYLIGHT
TZOFFSETFROM:+0100
TZOFFSETTO:+0200
TZNAME:CEST
DTSTART:20250330T010000
END:DAYLIGHT
BEGIN:STANDARD
TZOFFSETFROM:+0200
TZOFFSETTO:+0100
TZNAME:CET
DTSTART:20251026T010000
END:STANDARD
BEGIN:DAYLIGHT
TZOFFSETFROM:+0100
TZOFFSETTO:+0200
TZNAME:CEST
DTSTART:20260329T010000
END:DAYLIGHT
BEGIN:STANDARD
TZOFFSETFROM:+0200
TZOFFSETTO:+0100
TZNAME:CET
DTSTART:20261025T010000
END:STANDARD
END:VTIMEZONE
BEGIN:VEVENT
DTSTART;TZID=Europe/Paris:20250701T183000
DTEND;TZID=Europe/Paris:20250701T203000
DTSTAMP:20260424T225444
CREATED:20250617T132747Z
LAST-MODIFIED:20250617T132747Z
UID:754-1751394600-1751401800@www.bagad-cesson.com
SUMMARY:Découverte et inscriptions
DESCRIPTION:Vous profiterez à la fois d’une restitution des travaux des élèves\, et en parallèle la possibilité de vous inscrire pour la rentrée !  \nDes musiciens et membres de l’association seront présents pour vous accueillir\, expliquer\, faire essayer les instruments (si le temps le permet)\, expliquer comment fonctionne notre école et notre association\, les différents ensembles skolaj/bagadig/bagad etc… Les visiteurs pourront donc assister aux restitutions des élèves : individuelles ou en petits groupes\, mais aussi une prestation skolaj et une répétition du bagadig. Alors venez nous rencontrer et préparer votre rentrée musicale 
URL:https://www.bagad-cesson.com/event/decouverte-et-inscriptions/
LOCATION:La Frinière\, La frinière\, Cesson-Sévigné\, 35510\, France
ORGANIZER;CN="Bagad Cesson-S%C3%A9vign%C3%A9":MAILTO:bagadcesson@gmail.com
END:VEVENT
END:VCALENDAR